BEGIN:VCALENDAR
VERSION:2.0
PRODID:-//Hope Mission Centre - ECPv4.7.2//NONSGML v1.0//EN
CALSCALE:GREGORIAN
METHOD:PUBLISH
X-WR-CALNAME:Hope Mission Centre
X-ORIGINAL-URL:https://hmc.org.au
X-WR-CALDESC:Events for Hope Mission Centre
BEGIN:VEVENT
DTSTART;TZID=Australia/Sydney:20190302T110000
DTEND;TZID=Australia/Sydney:20190302T140000
DTSTAMP:20190226T204629
CREATED:20170716T125809Z
LAST-MODIFIED:20190102T075202Z
UID:12792-1551524400-1551535200@hmc.org.au
SUMMARY:Penrith Community Day
DESCRIPTION:\n					\n						\n\n\n\nJesus taught us how to love and serve regardless of where we are in life. As we follow the example of our Lord Jesus\, we would like to serve this community by bringing love\, hope and help to all who would seek Him. \n\n\n\n\n\n\nCome and join us at the park for a sausage sizzle and a great time of games\, music\, arts and craft for the whole family. We would love to meet you there. All are welcome! \nThe Penrith Community Days are held every first Saturday of the month. In addition there will be special events so stay tuned for more information. \n\nSpecial Event Dates \nEaster Celebration\, Saturday\, 20 April 2019\, 11am – 2pm \nChristmas Celebration\, Saturday\, 14 December 2019\, 11am – 2pm \n\n\n\n\n\n\n\n					\n				\n					\n						Wainwright Park\, Bringelly Road\, Kingswood NSW 2747 \n.fusion-button.button-1 .fusion-button-text\, .fusion-button.button-1 i {color:#474747;}.fusion-button.button-1 {border-width:2px;border-color:#474747;}.fusion-button.button-1 .fusion-button-icon-divider{border-color:#474747;}.fusion-button.button-1:hover .fusion-button-text\, .fusion-button.button-1:hover i\,.fusion-button.button-1:focus .fusion-button-text\, .fusion-button.button-1:focus i\,.fusion-button.button-1:active .fusion-button-text\, .fusion-button.button-1:active{color:#d8d8d8;}.fusion-button.button-1:hover\, .fusion-button.button-1:focus\, .fusion-button.button-1:active{border-width:2px;border-color:#d8d8d8;}.fusion-button.button-1:hover .fusion-button-icon-divider\, .fusion-button.button-1:hover .fusion-button-icon-divider\, .fusion-button.button-1:active .fusion-button-icon-divider{border-color:#d8d8d8;}.fusion-button.button-1{width:auto;}View on Google Maps \n\n\n					\n				\n					\n											\n						var map_fusion_map_5c75a5a599b7b;\n						var markers = [];\n						var counter = 0;\n																				var fusionMapNonce = 'd490209fde';\n												function fusion_run_map_fusion_map_5c75a5a599b7b() {\n							jQuery('#fusion_map_5c75a5a599b7b').fusion_maps({\n								addresses: [{"address":"Wainwright Park\, Bringelly Road\, Kingswood NSW 2747"\,"infobox_content":"Wainwright Park\, Bringelly Road\, Kingswood NSW 2747"\,"coordinates":false\,"cache":true\,"latitude":"-33.7611476"\,"longitude":"150.71994559999996"}]\,\n								animations: false\,\n								infobox_background_color: ''\,\n								infobox_styling: 'default'\,\n								infobox_text_color: ''\,\n								map_style: 'default'\,\n								map_type: 'roadmap'\,\n								marker_icon: ''\,\n								overlay_color: ''\,\n								overlay_color_hsl: {"hue":0\,"sat":0\,"lum":100}\,\n								pan_control: true\,\n								show_address: false\,\n								scale_control: true\,\n								scrollwheel: true\,\n								zoom: 18\,\n								zoom_control: true\,\n							});\n						}\n\n						google.maps.event.addDomListener(window\, 'load'\, fusion_run_map_fusion_map_5c75a5a599b7b);\n					\n					\n\n					\n				 \n
URL:https://hmc.org.au/event/penrith-community-day/
ATTACH;FMTTYPE=image/jpeg:https://hmc.org.au/wp-content/uploads/2017/07/hmc-penrith-outreach-web-1280x760-1-1.jpg
END:VEVENT
END:VCALENDAR